BEGIN:VCALENDAR
VERSION:2.0
PRODID:icalendar-ruby
CALSCALE:GREGORIAN
METHOD:PUBLISH
BEGIN:VEVENT
DTSTAMP:20260423T041041Z
UID:5-402912@faith4greatbend.com
DTSTART:20260726T153000Z
DTEND:20260726T163000Z
CLASS:PUBLIC
CREATED:20260422T221528
DESCRIPTION:Sunday Worship
LAST-MODIFIED:20260422T221528
LOCATION:
SUMMARY:Sunday Worship
URL;VALUE=URI:https://www.faith4greatbend.com/events/sunday-worship/2026-07
 -26
END:VEVENT
END:VCALENDAR
