BEGIN:VCALENDAR
VERSION:2.0
PRODID:icalendar-ruby
CALSCALE:GREGORIAN
METHOD:PUBLISH
BEGIN:VEVENT
DTSTAMP:20260423T081553Z
UID:5-402915@faith4greatbend.com
DTSTART:20260816T153000Z
DTEND:20260816T163000Z
CLASS:PUBLIC
CREATED:20260422T221528
DESCRIPTION:Sunday Worship
LAST-MODIFIED:20260422T221528
LOCATION:
SUMMARY:Sunday Worship
URL;VALUE=URI:https://www.faith4greatbend.com/events/sunday-worship/2026-08
 -16
END:VEVENT
END:VCALENDAR
