BEGIN:VCALENDAR
VERSION:2.0
PRODID:icalendar-ruby
CALSCALE:GREGORIAN
METHOD:PUBLISH
BEGIN:VEVENT
DTSTAMP:20260423T165346Z
UID:5-403443@faith4greatbend.com
DTSTART:20260927T153000Z
DTEND:20260927T163000Z
CLASS:PUBLIC
CREATED:20260423T103807
DESCRIPTION:Sunday Worship
LAST-MODIFIED:20260423T103807
LOCATION:
SUMMARY:Sunday Worship
URL;VALUE=URI:https://www.faith4greatbend.com/events/sunday-worship/2026-09
 -27
END:VEVENT
END:VCALENDAR
