BEGIN:VCALENDAR
VERSION:2.0
PRODID:icalendar-ruby
CALSCALE:GREGORIAN
METHOD:PUBLISH
BEGIN:VEVENT
DTSTAMP:20260423T233426Z
UID:5-403970@faith4greatbend.com
DTSTART:20261101T163000Z
DTEND:20261101T173000Z
CLASS:PUBLIC
CREATED:20260423T162934
DESCRIPTION:Sunday Worship
LAST-MODIFIED:20260423T162934
LOCATION:
SUMMARY:Sunday Worship
URL;VALUE=URI:https://www.faith4greatbend.com/events/sunday-worship/2026-11
 -01
END:VEVENT
END:VCALENDAR
